BEGIN:VCALENDAR
VERSION:2.0
PRODID:-//Beaumont - ECPv6.15.18//NONSGML v1.0//EN
CALSCALE:GREGORIAN
METHOD:PUBLISH
X-ORIGINAL-URL:https://www.beaumont.ab.ca
X-WR-CALDESC:Events for Beaumont
REFRESH-INTERVAL;VALUE=DURATION:PT1H
X-Robots-Tag:noindex
X-PUBLISHED-TTL:PT1H
BEGIN:VTIMEZONE
TZID:America/Edmonton
BEGIN:DAYLIGHT
TZOFFSETFROM:-0700
TZOFFSETTO:-0600
TZNAME:MDT
DTSTART:20250309T090000
END:DAYLIGHT
BEGIN:STANDARD
TZOFFSETFROM:-0600
TZOFFSETTO:-0700
TZNAME:MST
DTSTART:20251102T080000
END:STANDARD
BEGIN:DAYLIGHT
TZOFFSETFROM:-0700
TZOFFSETTO:-0600
TZNAME:MDT
DTSTART:20260308T090000
END:DAYLIGHT
BEGIN:STANDARD
TZOFFSETFROM:-0600
TZOFFSETTO:-0700
TZNAME:MST
DTSTART:20261101T080000
END:STANDARD
BEGIN:DAYLIGHT
TZOFFSETFROM:-0700
TZOFFSETTO:-0600
TZNAME:MDT
DTSTART:20270314T090000
END:DAYLIGHT
BEGIN:STANDARD
TZOFFSETFROM:-0600
TZOFFSETTO:-0700
TZNAME:MST
DTSTART:20271107T080000
END:STANDARD
END:VTIMEZONE
BEGIN:VEVENT
DTSTART;TZID=America/Edmonton:20260129T160000
DTEND;TZID=America/Edmonton:20260129T173000
DTSTAMP:20260421T072136
CREATED:20260114T232617Z
LAST-MODIFIED:20260114T232617Z
UID:10001066-1769702400-1769707800@www.beaumont.ab.ca
SUMMARY:Youth Information Session: CBYC Community Mural Project
DESCRIPTION:Calling youth ages 12–17\nWant your art to influence a permanent public mural? Attend the Youth Information Session for the CBYC Community Mural Project to learn about workshops where your drawings\, ideas and perspectives will directly inspire the final mural design. No experience needed\, just curiosity and creativity. Pizza provided. Sign-up required. \n\nDate: January 29\, 4 to 5:30 pm\nLocation: Chantal Bérubé Community Youth Centre (CBYC): 5202 50 St\, Beaumont\, AB\n\n\nJosh Harnack\, an Edmonton-based artist known for exploring themes of belonging\, identity and resilience. Josh’s vision will be shaped by direct community input\, reflecting the voices\, stories and experiences of Beaumont residents.
URL:https://www.beaumont.ab.ca/calendar/youth-information-session-cbyc-community-mural-project/
LOCATION:Chantal Bérubé Youth Centre (CBYC)\, 5202 50 Street\, Beaumont\, Alberta\, T4X 1K6\, Canada
CATEGORIES:Community event,Special events
ATTACH;FMTTYPE=image/png:https://www.beaumont.ab.ca/wp-content/uploads/2026/01/CBYC-Public-Art-Project-Public-Engagement-web-1.png
GEO:53.3549399;-113.4158344
X-APPLE-STRUCTURED-LOCATION;VALUE=URI;X-ADDRESS=Chantal Bérubé Youth Centre (CBYC) 5202 50 Street Beaumont Alberta T4X 1K6 Canada;X-APPLE-RADIUS=500;X-TITLE=5202 50 Street:geo:-113.4158344,53.3549399
END:VEVENT
END:VCALENDAR