BEGIN:VCALENDAR
VERSION:2.0
PRODID:-//Beaumont - ECPv6.15.20//NONSGML v1.0//EN
CALSCALE:GREGORIAN
METHOD:PUBLISH
X-WR-CALNAME:Beaumont
X-ORIGINAL-URL:https://www.beaumont.ab.ca
X-WR-CALDESC:Events for Beaumont
REFRESH-INTERVAL;VALUE=DURATION:PT1H
X-Robots-Tag:noindex
X-PUBLISHED-TTL:PT1H
BEGIN:VTIMEZONE
TZID:America/Edmonton
BEGIN:DAYLIGHT
TZOFFSETFROM:-0700
TZOFFSETTO:-0600
TZNAME:MDT
DTSTART:20240310T090000
END:DAYLIGHT
BEGIN:STANDARD
TZOFFSETFROM:-0600
TZOFFSETTO:-0700
TZNAME:MST
DTSTART:20241103T080000
END:STANDARD
BEGIN:DAYLIGHT
TZOFFSETFROM:-0700
TZOFFSETTO:-0600
TZNAME:MDT
DTSTART:20250309T090000
END:DAYLIGHT
BEGIN:STANDARD
TZOFFSETFROM:-0600
TZOFFSETTO:-0700
TZNAME:MST
DTSTART:20251102T080000
END:STANDARD
BEGIN:DAYLIGHT
TZOFFSETFROM:-0700
TZOFFSETTO:-0600
TZNAME:MDT
DTSTART:20260308T090000
END:DAYLIGHT
BEGIN:STANDARD
TZOFFSETFROM:-0600
TZOFFSETTO:-0700
TZNAME:MST
DTSTART:20261101T080000
END:STANDARD
END:VTIMEZONE
BEGIN:VEVENT
DTSTART;VALUE=DATE:20251016
DTEND;VALUE=DATE:20251020
DTSTAMP:20260421T122640
CREATED:20250925T154858Z
LAST-MODIFIED:20251001T210745Z
UID:10000963-1760572800-1760918399@www.beaumont.ab.ca
SUMMARY:Junior Grand Slam of Curling
DESCRIPTION:The Beaumont Curling Club will host the first-ever Junior Grand Slam of Curling\, part of a double showcase of world-class events hitting the region. \nFrom October 16 to 19\, the Beaumont Curling Club will welcome rising junior athletes for the inaugural Junior Grand Slam of Curling. \nJust minutes away in Nisku\, fans can also catch the sport’s top professionals at the Co-op Tour Challenge Grand Slam of Curling (running October 14 to 19 at the Silent Ice Centre). \nShow your Grand Slam ticket or player/volunteer identification to take advantage of great promotions in Beaumont available October 14 to 19\, 2025.
URL:https://www.beaumont.ab.ca/calendar/junior-grand-slam-of-curling/
LOCATION:Beaumont Curling Club\, 5303 50 Street\, Beaumont\, Alberta\, T4X 1J8\, Canada
CATEGORIES:Community event,Things to do
ATTACH;FMTTYPE=image/png:https://www.beaumont.ab.ca/wp-content/uploads/2025/09/JGSOC.png
GEO:53.3561161;-113.4132462
X-APPLE-STRUCTURED-LOCATION;VALUE=URI;X-ADDRESS=Beaumont Curling Club 5303 50 Street Beaumont Alberta T4X 1J8 Canada;X-APPLE-RADIUS=500;X-TITLE=5303 50 Street:geo:-113.4132462,53.3561161
END:VEVENT
END:VCALENDAR