BEGIN:VCALENDAR
VERSION:2.0
PRODID:-//Beaumont - ECPv6.15.20//NONSGML v1.0//EN
CALSCALE:GREGORIAN
METHOD:PUBLISH
X-WR-CALNAME:Beaumont
X-ORIGINAL-URL:https://www.beaumont.ab.ca
X-WR-CALDESC:Events for Beaumont
REFRESH-INTERVAL;VALUE=DURATION:PT1H
X-Robots-Tag:noindex
X-PUBLISHED-TTL:PT1H
BEGIN:VTIMEZONE
TZID:America/Edmonton
BEGIN:DAYLIGHT
TZOFFSETFROM:-0700
TZOFFSETTO:-0600
TZNAME:MDT
DTSTART:20240310T090000
END:DAYLIGHT
BEGIN:STANDARD
TZOFFSETFROM:-0600
TZOFFSETTO:-0700
TZNAME:MST
DTSTART:20241103T080000
END:STANDARD
BEGIN:DAYLIGHT
TZOFFSETFROM:-0700
TZOFFSETTO:-0600
TZNAME:MDT
DTSTART:20250309T090000
END:DAYLIGHT
BEGIN:STANDARD
TZOFFSETFROM:-0600
TZOFFSETTO:-0700
TZNAME:MST
DTSTART:20251102T080000
END:STANDARD
BEGIN:DAYLIGHT
TZOFFSETFROM:-0700
TZOFFSETTO:-0600
TZNAME:MDT
DTSTART:20260308T090000
END:DAYLIGHT
BEGIN:STANDARD
TZOFFSETFROM:-0600
TZOFFSETTO:-0700
TZNAME:MST
DTSTART:20261101T080000
END:STANDARD
END:VTIMEZONE
BEGIN:VEVENT
DTSTART;TZID=America/Edmonton:20250912T180000
DTEND;TZID=America/Edmonton:20250914T170000
DTSTAMP:20260421T140806
CREATED:20250911T193438Z
LAST-MODIFIED:20250911T193438Z
UID:10000954-1757700000-1757869200@www.beaumont.ab.ca
SUMMARY:Chris Letendre Memorial Lacrosse Tournament
DESCRIPTION:The Second Annual Chris Letendre Memorial Tournament scheduled for September 12 to 14\, 2025. Features 8-10 teams from across the province to provide a fun and friendly competition in the heart of Beaumont\, AB. Lacrosse tournaments are an ideal environment and opportunity for teams to create lasting memories. \nThis tournament is for raising awareness for mental health and suicide awareness. Suicide prevention is our cause\, and our work is so crucial given the prevalence of mental health issues with youth and young adults. We are going to try and make a long-term impact with: \n\nTeamwork\nCooperation\nSportsmanship\nPerseverance\nCommunity involvement\n\nSchedule\nFriday\, September 12: 6 to 9 pm\nSaturday\, September 13: 9 am to 9 pm\nSunday\, September 14: Medal games\, starting at 9 am \nHosted by the Chris Letendre Wellness Foundation.
URL:https://www.beaumont.ab.ca/calendar/chris-letendre-memorial-lacrosse-tournament/
LOCATION:Beaumont Sport and Recreation Centre\, 5001 Rue Eaglemont\, Beaumont\, Alberta\, T4X 0H9\, Canada
CATEGORIES:Community event
ATTACH;FMTTYPE=image/jpeg:https://www.beaumont.ab.ca/wp-content/uploads/2025/09/2025-Lacrosse-Tournament-PosterJPEG.jpg
GEO:53.3529018;-113.4352483
X-APPLE-STRUCTURED-LOCATION;VALUE=URI;X-ADDRESS=Beaumont Sport and Recreation Centre 5001 Rue Eaglemont Beaumont Alberta T4X 0H9 Canada;X-APPLE-RADIUS=500;X-TITLE=5001 Rue Eaglemont:geo:-113.4352483,53.3529018
END:VEVENT
END:VCALENDAR