BEGIN:VCALENDAR
VERSION:2.0
PRODID:-//Beaumont - ECPv6.15.18//NONSGML v1.0//EN
CALSCALE:GREGORIAN
METHOD:PUBLISH
X-WR-CALNAME:Beaumont
X-ORIGINAL-URL:https://www.beaumont.ab.ca
X-WR-CALDESC:Events for Beaumont
REFRESH-INTERVAL;VALUE=DURATION:PT1H
X-Robots-Tag:noindex
X-PUBLISHED-TTL:PT1H
BEGIN:VTIMEZONE
TZID:America/Edmonton
BEGIN:DAYLIGHT
TZOFFSETFROM:-0700
TZOFFSETTO:-0600
TZNAME:MDT
DTSTART:20240310T090000
END:DAYLIGHT
BEGIN:STANDARD
TZOFFSETFROM:-0600
TZOFFSETTO:-0700
TZNAME:MST
DTSTART:20241103T080000
END:STANDARD
BEGIN:DAYLIGHT
TZOFFSETFROM:-0700
TZOFFSETTO:-0600
TZNAME:MDT
DTSTART:20250309T090000
END:DAYLIGHT
BEGIN:STANDARD
TZOFFSETFROM:-0600
TZOFFSETTO:-0700
TZNAME:MST
DTSTART:20251102T080000
END:STANDARD
BEGIN:DAYLIGHT
TZOFFSETFROM:-0700
TZOFFSETTO:-0600
TZNAME:MDT
DTSTART:20260308T090000
END:DAYLIGHT
BEGIN:STANDARD
TZOFFSETFROM:-0600
TZOFFSETTO:-0700
TZNAME:MST
DTSTART:20261101T080000
END:STANDARD
END:VTIMEZONE
BEGIN:VEVENT
DTSTART;TZID=America/Edmonton:20250523T100000
DTEND;TZID=America/Edmonton:20250525T140000
DTSTAMP:20260419T194412
CREATED:20250428T153200Z
LAST-MODIFIED:20251029T213906Z
UID:10000912-1747994400-1748181600@www.beaumont.ab.ca
SUMMARY:Beaumont Days Annual Book Sale
DESCRIPTION:Calling all book lovers! Hosted by the Beaumont Library\, you’ll find incredible deals on gently used books\, with something for every reader—fiction\, non-fiction\, children’s books\, and more! Proceeds support library programs and services. \nLocation: Beaumont Library \n Hours:\nFriday 10 am to 6 pm\nSaturday\, 11 am to 4 pm\nSunday\, 11 am to 2 pm
URL:https://www.beaumont.ab.ca/calendar/beaumont-days-annual-book-sale/
LOCATION:Beaumont Library\, 5700 49 Street Beaumont\, Beaumont\, Alberta\, T4X 1A1\, Canada
CATEGORIES:Annual events,Things to do
ATTACH;FMTTYPE=image/png:https://www.beaumont.ab.ca/wp-content/uploads/2025/04/Beaumont-Days-Annual-Book-Sale.png
GEO:53.3582102;-113.4143026
X-APPLE-STRUCTURED-LOCATION;VALUE=URI;X-ADDRESS=Beaumont Library 5700 49 Street Beaumont Beaumont Alberta T4X 1A1 Canada;X-APPLE-RADIUS=500;X-TITLE=5700 49 Street Beaumont:geo:-113.4143026,53.3582102
END:VEVENT
END:VCALENDAR