BEGIN:VCALENDAR
VERSION:2.0
PRODID:-//Beaumont - ECPv6.15.18//NONSGML v1.0//EN
CALSCALE:GREGORIAN
METHOD:PUBLISH
X-ORIGINAL-URL:https://www.beaumont.ab.ca
X-WR-CALDESC:Events for Beaumont
REFRESH-INTERVAL;VALUE=DURATION:PT1H
X-Robots-Tag:noindex
X-PUBLISHED-TTL:PT1H
BEGIN:VTIMEZONE
TZID:America/Edmonton
BEGIN:DAYLIGHT
TZOFFSETFROM:-0700
TZOFFSETTO:-0600
TZNAME:MDT
DTSTART:20240310T090000
END:DAYLIGHT
BEGIN:STANDARD
TZOFFSETFROM:-0600
TZOFFSETTO:-0700
TZNAME:MST
DTSTART:20241103T080000
END:STANDARD
BEGIN:DAYLIGHT
TZOFFSETFROM:-0700
TZOFFSETTO:-0600
TZNAME:MDT
DTSTART:20250309T090000
END:DAYLIGHT
BEGIN:STANDARD
TZOFFSETFROM:-0600
TZOFFSETTO:-0700
TZNAME:MST
DTSTART:20251102T080000
END:STANDARD
BEGIN:DAYLIGHT
TZOFFSETFROM:-0700
TZOFFSETTO:-0600
TZNAME:MDT
DTSTART:20260308T090000
END:DAYLIGHT
BEGIN:STANDARD
TZOFFSETFROM:-0600
TZOFFSETTO:-0700
TZNAME:MST
DTSTART:20261101T080000
END:STANDARD
END:VTIMEZONE
BEGIN:VEVENT
DTSTART;TZID=America/Edmonton:20251015T183000
DTEND;TZID=America/Edmonton:20251015T183000
DTSTAMP:20260419T160856
CREATED:20251001T212143Z
LAST-MODIFIED:20251001T212143Z
UID:10000965-1760553000-1760553000@www.beaumont.ab.ca
SUMMARY:Beaumont Nisku Christmas Elves - Volunteer Information Session
DESCRIPTION:The Beaumont Nisku Christmas Elves have been spreading holiday cheer across our community for more than 30 years. Each year we provide families and seniors in need at Christmas with holiday hampers containing non-perishable food\, toys\, toiletries\, gift cards\, etc. In 2024\, we delivered hampers to 110 families in our community. \nAnd we can’t do it without your help! Attend our Volunteer Info Night on Wednesday\, October 15 to find out how you can help deliver a joyful holiday season this year. \nWhere: Room 152 at the Beaumont Sport & Recreation Centre\nWhen: 6:30 pm on October 15\, 2025
URL:https://www.beaumont.ab.ca/calendar/christmas-elves-volunteer-info-session/
LOCATION:Beaumont Sport and Recreation Centre\, 5001 Rue Eaglemont\, Beaumont\, Alberta\, T4X 0H9\, Canada
CATEGORIES:Community event
ATTACH;FMTTYPE=image/png:https://www.beaumont.ab.ca/wp-content/uploads/2025/10/Elves-Instagram-Post.png
GEO:53.3529018;-113.4352483
X-APPLE-STRUCTURED-LOCATION;VALUE=URI;X-ADDRESS=Beaumont Sport and Recreation Centre 5001 Rue Eaglemont Beaumont Alberta T4X 0H9 Canada;X-APPLE-RADIUS=500;X-TITLE=5001 Rue Eaglemont:geo:-113.4352483,53.3529018
END:VEVENT
END:VCALENDAR