BEGIN:VCALENDAR
VERSION:2.0
PRODID:-//Beaumont - ECPv6.15.18//NONSGML v1.0//EN
CALSCALE:GREGORIAN
METHOD:PUBLISH
X-ORIGINAL-URL:https://www.beaumont.ab.ca
X-WR-CALDESC:Events for Beaumont
REFRESH-INTERVAL;VALUE=DURATION:PT1H
X-Robots-Tag:noindex
X-PUBLISHED-TTL:PT1H
BEGIN:VTIMEZONE
TZID:America/Edmonton
BEGIN:DAYLIGHT
TZOFFSETFROM:-0700
TZOFFSETTO:-0600
TZNAME:MDT
DTSTART:20240310T090000
END:DAYLIGHT
BEGIN:STANDARD
TZOFFSETFROM:-0600
TZOFFSETTO:-0700
TZNAME:MST
DTSTART:20241103T080000
END:STANDARD
BEGIN:DAYLIGHT
TZOFFSETFROM:-0700
TZOFFSETTO:-0600
TZNAME:MDT
DTSTART:20250309T090000
END:DAYLIGHT
BEGIN:STANDARD
TZOFFSETFROM:-0600
TZOFFSETTO:-0700
TZNAME:MST
DTSTART:20251102T080000
END:STANDARD
BEGIN:DAYLIGHT
TZOFFSETFROM:-0700
TZOFFSETTO:-0600
TZNAME:MDT
DTSTART:20260308T090000
END:DAYLIGHT
BEGIN:STANDARD
TZOFFSETFROM:-0600
TZOFFSETTO:-0700
TZNAME:MST
DTSTART:20261101T080000
END:STANDARD
END:VTIMEZONE
BEGIN:VEVENT
DTSTART;TZID=America/Edmonton:20250605T113000
DTEND;TZID=America/Edmonton:20250605T143000
DTSTAMP:20260420T004336
CREATED:20250529T163355Z
LAST-MODIFIED:20250529T163431Z
UID:10000943-1749123000-1749133800@www.beaumont.ab.ca
SUMMARY:Seniors' Week Celebration
DESCRIPTION:Calling all Beaumont seniors! Join us for our annual Seniors’ Week celebration. Enjoy a light lunch\, refreshments and live entertainment from Popovich Productions! \nRecognized across Alberta since 1986\, Seniors’ Week takes place June 2–8\, 2025. This week is dedicated to celebrating the many contributions seniors make to improve our communities. \nRSVP by June 2 by contacting Beaumont FCSS at 780-929-1006 or FCSS@beaumont.ab.ca.
URL:https://www.beaumont.ab.ca/calendar/seniors-week-celebration/
LOCATION:Beaumont Community Centre\, 5204 50 Avenue\, Beaumont\, Alberta\, T4X 1E3\, Canada
CATEGORIES:Special events,Things to do
ATTACH;FMTTYPE=image/png:https://www.beaumont.ab.ca/wp-content/uploads/2025/05/Seniors-Week-Celebration.png
GEO:53.3528896;-113.4195316
X-APPLE-STRUCTURED-LOCATION;VALUE=URI;X-ADDRESS=Beaumont Community Centre 5204 50 Avenue Beaumont Alberta T4X 1E3 Canada;X-APPLE-RADIUS=500;X-TITLE=5204 50 Avenue:geo:-113.4195316,53.3528896
END:VEVENT
BEGIN:VEVENT
DTSTART;TZID=America/Edmonton:20250606T170000
DTEND;TZID=America/Edmonton:20250606T210000
DTSTAMP:20260420T004336
CREATED:20250523T211743Z
LAST-MODIFIED:20250523T211743Z
UID:10000923-1749229200-1749243600@www.beaumont.ab.ca
SUMMARY:Pride in the Park
DESCRIPTION:Celebrate love\, inclusion and community at Pride in the Park! \nJoin us on June 6 for an evening of family-friendly fun\, learning and connection. Everyone is welcome as we come together to support and uplift our 2SLGBTQ+ family\, friends and neighbours. Come out for an evening of games\, crafts\, BBQ\, workshops and more. \nEvent itinerary: \n5–9 pm \n\nCrafts and games for all ages\nSidewalk pride flag painting\n\n6–8 pm \n\nFree hotdog BBQ (while supplies last)\n\n7–8 pm \n\nPride 101 Workshop\n\n8–9 pm \n\n2SLGBTQ+ Service Provider Panel Discussion\n\nBring your friends\, family or just yourself. We can’t wait to see you there! \nThis event is planned in partnership with the Chantal Bérubé Youth Centre\, Beaumont Family & Community Support Services\, Beaumont Library\, and Camp Dragonfly.
URL:https://www.beaumont.ab.ca/calendar/pride-in-the-park/
LOCATION:Centre-Ville Park\, 5022 50 Street\, Beaumont\, Alberta\, T4X 1E5\, Canada
CATEGORIES:Special events,Things to do
ATTACH;FMTTYPE=image/png:https://www.beaumont.ab.ca/wp-content/uploads/2025/05/Pride-in-the-Park-event-photo.png
GEO:53.35428;-113.41562
X-APPLE-STRUCTURED-LOCATION;VALUE=URI;X-ADDRESS=Centre-Ville Park 5022 50 Street Beaumont Alberta T4X 1E5 Canada;X-APPLE-RADIUS=500;X-TITLE=5022 50 Street:geo:-113.41562,53.35428
END:VEVENT
BEGIN:VEVENT
DTSTART;TZID=America/Edmonton:20250610T180000
DTEND;TZID=America/Edmonton:20250610T210000
DTSTAMP:20260420T004336
CREATED:20250130T213649Z
LAST-MODIFIED:20250130T213649Z
UID:10000828-1749578400-1749589200@www.beaumont.ab.ca
SUMMARY:Regular Council Meeting
DESCRIPTION:Council meetings will begin at 6 pm every second and fourth Tuesday of every month unless otherwise posted. Agendas and other documents are made available the Thursday before the meeting. Although the end-time is shown as 9 pm\, meetings may conclude earlier or later than listed depending on the nature of the agenda.
URL:https://www.beaumont.ab.ca/calendar/regular-council-meeting-2/2025-06-10/
LOCATION:Council Chambers\, Administration Office\, 5600 49 Street\, Beaumont\, Alberta\, T4X 1A1\, Canada
CATEGORIES:City government,Council meetings
ATTACH;FMTTYPE=image/jpeg:https://www.beaumont.ab.ca/wp-content/uploads/2024/07/Council-Meeting_Event-Image-scaled.jpg
GEO:53.3577598;-113.4145615
X-APPLE-STRUCTURED-LOCATION;VALUE=URI;X-ADDRESS=Council Chambers Administration Office 5600 49 Street Beaumont Alberta T4X 1A1 Canada;X-APPLE-RADIUS=500;X-TITLE=5600 49 Street:geo:-113.4145615,53.3577598
END:VEVENT
BEGIN:VEVENT
DTSTART;TZID=America/Edmonton:20250618T120000
DTEND;TZID=America/Edmonton:20250618T200000
DTSTAMP:20260420T004336
CREATED:20250514T220031Z
LAST-MODIFIED:20250603T221727Z
UID:10000921-1750248000-1750276800@www.beaumont.ab.ca
SUMMARY:Understanding Your Property Taxes (Online) - Rescheduled
DESCRIPTION:Due to the NHL playoff schedule\, our online Understanding Property Taxes information session has been rescheduled. Originally planned for June 12\, the hour-long sessions will now take place on: \n📅 Wednesday\, June 18\n🕛 Noon and 7 pm \nIf you’re curious about how your property taxes are calculated\, these online information sessions will walk you through the process in clear\, easy-to-understand terms. \nTo join a Teams meeting: \n\nJune 18 at 12 pm (noon)\nJune 18 at 7 pm\n\nFor more information about property taxes\, visit the Taxes page.
URL:https://www.beaumont.ab.ca/calendar/understanding-your-property-taxes-online-event/
LOCATION:Alberta
CATEGORIES:City government
ATTACH;FMTTYPE=image/jpeg:https://www.beaumont.ab.ca/wp-content/uploads/2025/05/property-tax-online-event.jpg
END:VEVENT
BEGIN:VEVENT
DTSTART;TZID=America/Edmonton:20250620T160000
DTEND;TZID=America/Edmonton:20250620T235900
DTSTAMP:20260420T004336
CREATED:20241120T213415Z
LAST-MODIFIED:20250502T180352Z
UID:10000705-1750435200-1750463940@www.beaumont.ab.ca
SUMMARY:Beaumont Music Festival 2025
DESCRIPTION:Every year since 2008\, the Beaumont Music Festival (BMF) has been proud to present the Alberta capital region with the best in live Canadian music from a wide range of genres. With a simple goal of providing high quality live music and a fun\, memorable experience for all ages\, the BMF has continued to grow and expand from our grassroots beginnings into a world-class\, nationally-recognized festival! \nThe BMF is the longest-running music festival in Canada with all-Canadian artists. Our 18th festival runs June 20-21\, 2025 and will feature music on two alternating stages. \n\nVendor Village: shop local artisans\nNew Kid Zone\nFood Zone: delicious food\, snacks & beverages\nFiesta Zone ‘Beer+more’ Garden: enjoy craft beverages anywhere on the grounds\nKids under 12 are free
URL:https://www.beaumont.ab.ca/calendar/beaumont-music-festival-2025-2/
LOCATION:Four Seasons Park\, Four Seasons Trail\, Beaumont\, Alberta\, T4X 1P7\, Canada
CATEGORIES:Special events,Things to do
ATTACH;FMTTYPE=image/jpeg:https://www.beaumont.ab.ca/wp-content/uploads/2024/11/Dear-Rouge-2024.jpg
GEO:53.3465338;-113.4285135
X-APPLE-STRUCTURED-LOCATION;VALUE=URI;X-ADDRESS=Four Seasons Park Four Seasons Trail Beaumont Alberta T4X 1P7 Canada;X-APPLE-RADIUS=500;X-TITLE=Four Seasons Trail:geo:-113.4285135,53.3465338
END:VEVENT
BEGIN:VEVENT
DTSTART;TZID=America/Edmonton:20250624T180000
DTEND;TZID=America/Edmonton:20250624T210000
DTSTAMP:20260420T004336
CREATED:20250130T213808Z
LAST-MODIFIED:20250130T213808Z
UID:10000850-1750788000-1750798800@www.beaumont.ab.ca
SUMMARY:Regular Council Meeting
DESCRIPTION:Council meetings will begin at 6 pm every second and fourth Tuesday of every month unless otherwise posted. Agendas and other documents are made available the Thursday before the meeting. Although the end-time is shown as 9 pm\, meetings may conclude earlier or later than listed depending on the nature of the agenda.
URL:https://www.beaumont.ab.ca/calendar/regular-council-meeting-3/2025-06-24/
LOCATION:Council Chambers\, Administration Office\, 5600 49 Street\, Beaumont\, Alberta\, T4X 1A1\, Canada
CATEGORIES:City government,Council meetings
ATTACH;FMTTYPE=image/jpeg:https://www.beaumont.ab.ca/wp-content/uploads/2024/07/Council-Meeting_Event-Image-scaled.jpg
GEO:53.3577598;-113.4145615
X-APPLE-STRUCTURED-LOCATION;VALUE=URI;X-ADDRESS=Council Chambers Administration Office 5600 49 Street Beaumont Alberta T4X 1A1 Canada;X-APPLE-RADIUS=500;X-TITLE=5600 49 Street:geo:-113.4145615,53.3577598
END:VEVENT
BEGIN:VEVENT
DTSTART;TZID=America/Edmonton:20250628T130000
DTEND;TZID=America/Edmonton:20250628T150000
DTSTAMP:20260420T004336
CREATED:20250617T154505Z
LAST-MODIFIED:20250617T154505Z
UID:10000948-1751115600-1751122800@www.beaumont.ab.ca
SUMMARY:Secure Your Licence Plate
DESCRIPTION:A free drive-thru screw swap event\nDate: Saturday\, June 28\, 2025\nTime: 1 to 3 pm (while supplies last)\nLocation: Home Hardware parking lot\, Beaumont \nStolen licence plates are commonly used in property crimes\, including vehicle theft and theft from property. Installing tamper-resistant screws makes it harder for someone to remove your plate quickly and misuse it. \nRCMP Beaumont and Citizens on Patrol are inviting residents to drive through and have locking screws installed on their licence plates\, completely free of charge. The setup is quick and easy\, and you won’t need to leave your vehicle. \nWhat to expect:\n\nTamper-resistant screws installed using a specialized tool\nYou stay in your vehicle the entire time\nThe process takes just a few minutes\nNo cost and no registration required\nOpen to all Beaumont residents\n\nTake a few minutes to help protect your vehicle and support community safety. \n 
URL:https://www.beaumont.ab.ca/calendar/secure-your-licence-plate/
LOCATION:Beaumont Home Hardware\, 5700 50 Street\, Beaumont\, Alberta\, T4X 1M8\, Canada
CATEGORIES:Special events
ATTACH;FMTTYPE=image/png:https://www.beaumont.ab.ca/wp-content/uploads/2025/06/Secure-Your-Licence-Plate-Event-Website-with-Text.png
ORGANIZER;CN="RCMP":MAILTO:RCMP.KBeaumontAdmin.GRC@rcmp-grc.gc.ca
GEO:53.359006;-113.4163148
X-APPLE-STRUCTURED-LOCATION;VALUE=URI;X-ADDRESS=Beaumont Home Hardware 5700 50 Street Beaumont Alberta T4X 1M8 Canada;X-APPLE-RADIUS=500;X-TITLE=5700 50 Street:geo:-113.4163148,53.359006
END:VEVENT
END:VCALENDAR