BEGIN:VCALENDAR
VERSION:2.0
PRODID:-//Beaumont - ECPv6.15.18//NONSGML v1.0//EN
CALSCALE:GREGORIAN
METHOD:PUBLISH
X-ORIGINAL-URL:https://www.beaumont.ab.ca
X-WR-CALDESC:Events for Beaumont
REFRESH-INTERVAL;VALUE=DURATION:PT1H
X-Robots-Tag:noindex
X-PUBLISHED-TTL:PT1H
BEGIN:VTIMEZONE
TZID:America/Edmonton
BEGIN:DAYLIGHT
TZOFFSETFROM:-0700
TZOFFSETTO:-0600
TZNAME:MDT
DTSTART:20240310T090000
END:DAYLIGHT
BEGIN:STANDARD
TZOFFSETFROM:-0600
TZOFFSETTO:-0700
TZNAME:MST
DTSTART:20241103T080000
END:STANDARD
BEGIN:DAYLIGHT
TZOFFSETFROM:-0700
TZOFFSETTO:-0600
TZNAME:MDT
DTSTART:20250309T090000
END:DAYLIGHT
BEGIN:STANDARD
TZOFFSETFROM:-0600
TZOFFSETTO:-0700
TZNAME:MST
DTSTART:20251102T080000
END:STANDARD
BEGIN:DAYLIGHT
TZOFFSETFROM:-0700
TZOFFSETTO:-0600
TZNAME:MDT
DTSTART:20260308T090000
END:DAYLIGHT
BEGIN:STANDARD
TZOFFSETFROM:-0600
TZOFFSETTO:-0700
TZNAME:MST
DTSTART:20261101T080000
END:STANDARD
END:VTIMEZONE
BEGIN:VEVENT
DTSTART;TZID=America/Edmonton:20250513T180000
DTEND;TZID=America/Edmonton:20250513T210000
DTSTAMP:20260420T024230
CREATED:20250130T213649Z
LAST-MODIFIED:20250130T213649Z
UID:10000827-1747159200-1747170000@www.beaumont.ab.ca
SUMMARY:Regular Council Meeting
DESCRIPTION:Council meetings will begin at 6 pm every second and fourth Tuesday of every month unless otherwise posted. Agendas and other documents are made available the Thursday before the meeting. Although the end-time is shown as 9 pm\, meetings may conclude earlier or later than listed depending on the nature of the agenda.
URL:https://www.beaumont.ab.ca/calendar/regular-council-meeting-2/2025-05-13/
LOCATION:Council Chambers\, Administration Office\, 5600 49 Street\, Beaumont\, Alberta\, T4X 1A1\, Canada
CATEGORIES:City government,Council meetings
ATTACH;FMTTYPE=image/jpeg:https://www.beaumont.ab.ca/wp-content/uploads/2024/07/Council-Meeting_Event-Image-scaled.jpg
GEO:53.3577598;-113.4145615
X-APPLE-STRUCTURED-LOCATION;VALUE=URI;X-ADDRESS=Council Chambers Administration Office 5600 49 Street Beaumont Alberta T4X 1A1 Canada;X-APPLE-RADIUS=500;X-TITLE=5600 49 Street:geo:-113.4145615,53.3577598
END:VEVENT
BEGIN:VEVENT
DTSTART;TZID=America/Edmonton:20250523T180000
DTEND;TZID=America/Edmonton:20250523T230000
DTSTAMP:20260420T024230
CREATED:20250428T153309Z
LAST-MODIFIED:20251121T220639Z
UID:10000913-1748023200-1748041200@www.beaumont.ab.ca
SUMMARY:Beaumont Days Street Party
DESCRIPTION:The street party officially kicks off Beaumont Days with an electrifying evening in the heart of Centre-Ville! Dance the night away to live music\, shop at the Bazar de rue à Beaumont\, sip on drinks from the beer gardens\, and enjoy delicious food and family-friendly activities. \nLocation: Centre-Ville (50 Street between 50-52 Avenue) \nTime: 6 to 11 pm \nStage schedule: \nThe City of Beaumont proudly presents Arcana Kings\, the Oddibles and DJ Tea Cup \n\n\n\n6 pm\nDJ Tea Cup\n\n\n6:40 pm\nPhilip Ki Joon Oh Volunteer Award Presentation\n\n\n7 pm\nDJ Tea Cup\n\n\n7:15 pm\nThe Oddibles\n\n\n8:15 pm\nDJ Tea Cup\n\n\n8:45 pm\nArcana Kings\n\n\n10:15 pm\nDJ Tea Cup\n\n\n\n  \nAdditional fun:  \n\nBeer Gardens hosted by Kin Club of Beaumont\nBrowse the Bazar de rue à Beaumont street market\nIndulge in your favourite eats at Food Truck Alley\nActivities for all ages throughout the evening\nChantal Bérubé Youth Centre Open House\n\nFood truck lineup: \n\nVenture Eats\nDrift\nCasa12doce\nWinstons Fish & Chips\nCamion Gisele Ltd\n\nIt’s Hotdog Time
URL:https://www.beaumont.ab.ca/calendar/beaumont-days-street-party/
LOCATION:Centre-Ville\, 5022 50 Street\, Beaumont\, Alberta\, T4X 1E5\, Canada
CATEGORIES:Annual events,Things to do
ATTACH;FMTTYPE=image/png:https://www.beaumont.ab.ca/wp-content/uploads/2025/04/Beaumont-Days-Street-Party.png
GEO:53.35428;-113.41562
X-APPLE-STRUCTURED-LOCATION;VALUE=URI;X-ADDRESS=Centre-Ville 5022 50 Street Beaumont Alberta T4X 1E5 Canada;X-APPLE-RADIUS=500;X-TITLE=5022 50 Street:geo:-113.41562,53.35428
END:VEVENT
BEGIN:VEVENT
DTSTART;TZID=America/Edmonton:20250524T080000
DTEND;TZID=America/Edmonton:20250524T100000
DTSTAMP:20260420T024230
CREATED:20250428T153126Z
LAST-MODIFIED:20251121T220654Z
UID:10000914-1748073600-1748080800@www.beaumont.ab.ca
SUMMARY:Beaumont Firefighters Pancake Breakfast
DESCRIPTION:Start your day the best way—with pancakes and community spirit! Enjoy a free hot breakfast cooked by our local firefighters before heading out to watch the parade. Please note: food service ends at 10 am sharp. \nLocation: Beaumont Fire Hall (5010 52 Avenue) \nTime: 8 to 10 am \n  \n 
URL:https://www.beaumont.ab.ca/calendar/beaumont-firefighters-pancake-breakfast/
LOCATION:Beaumont Fire Hall\, 5010 52 Ave\, Beaumont\, Alberta\, T4X 1E5\, Canada
CATEGORIES:Annual events,Things to do
ATTACH;FMTTYPE=image/png:https://www.beaumont.ab.ca/wp-content/uploads/2025/04/Beaumont-Firefighters-Pancake-Breakfast.png
END:VEVENT
BEGIN:VEVENT
DTSTART;TZID=America/Edmonton:20250527T180000
DTEND;TZID=America/Edmonton:20250527T210000
DTSTAMP:20260420T024230
CREATED:20250130T213808Z
LAST-MODIFIED:20250130T213808Z
UID:10000849-1748368800-1748379600@www.beaumont.ab.ca
SUMMARY:Regular Council Meeting
DESCRIPTION:Council meetings will begin at 6 pm every second and fourth Tuesday of every month unless otherwise posted. Agendas and other documents are made available the Thursday before the meeting. Although the end-time is shown as 9 pm\, meetings may conclude earlier or later than listed depending on the nature of the agenda.
URL:https://www.beaumont.ab.ca/calendar/regular-council-meeting-3/2025-05-27/
LOCATION:Council Chambers\, Administration Office\, 5600 49 Street\, Beaumont\, Alberta\, T4X 1A1\, Canada
CATEGORIES:City government,Council meetings
ATTACH;FMTTYPE=image/jpeg:https://www.beaumont.ab.ca/wp-content/uploads/2024/07/Council-Meeting_Event-Image-scaled.jpg
GEO:53.3577598;-113.4145615
X-APPLE-STRUCTURED-LOCATION;VALUE=URI;X-ADDRESS=Council Chambers Administration Office 5600 49 Street Beaumont Alberta T4X 1A1 Canada;X-APPLE-RADIUS=500;X-TITLE=5600 49 Street:geo:-113.4145615,53.3577598
END:VEVENT
END:VCALENDAR