BEGIN:VCALENDAR
VERSION:2.0
PRODID:-//Beaumont - ECPv6.15.20//NONSGML v1.0//EN
CALSCALE:GREGORIAN
METHOD:PUBLISH
X-WR-CALNAME:Beaumont
X-ORIGINAL-URL:https://www.beaumont.ab.ca
X-WR-CALDESC:Events for Beaumont
REFRESH-INTERVAL;VALUE=DURATION:PT1H
X-Robots-Tag:noindex
X-PUBLISHED-TTL:PT1H
BEGIN:VTIMEZONE
TZID:America/Edmonton
BEGIN:DAYLIGHT
TZOFFSETFROM:-0700
TZOFFSETTO:-0600
TZNAME:MDT
DTSTART:20250309T090000
END:DAYLIGHT
BEGIN:STANDARD
TZOFFSETFROM:-0600
TZOFFSETTO:-0700
TZNAME:MST
DTSTART:20251102T080000
END:STANDARD
BEGIN:DAYLIGHT
TZOFFSETFROM:-0700
TZOFFSETTO:-0600
TZNAME:MDT
DTSTART:20260308T090000
END:DAYLIGHT
BEGIN:STANDARD
TZOFFSETFROM:-0600
TZOFFSETTO:-0700
TZNAME:MST
DTSTART:20261101T080000
END:STANDARD
BEGIN:DAYLIGHT
TZOFFSETFROM:-0700
TZOFFSETTO:-0600
TZNAME:MDT
DTSTART:20270314T090000
END:DAYLIGHT
BEGIN:STANDARD
TZOFFSETFROM:-0600
TZOFFSETTO:-0700
TZNAME:MST
DTSTART:20271107T080000
END:STANDARD
END:VTIMEZONE
BEGIN:VEVENT
DTSTART;TZID=America/Edmonton:20260522T150000
DTEND;TZID=America/Edmonton:20260524T170000
DTSTAMP:20260425T181439
CREATED:20260422T213021Z
LAST-MODIFIED:20260422T213356Z
UID:10000911-1779462000-1779642000@www.beaumont.ab.ca
SUMMARY:Beaumont Days Midway
DESCRIPTION:Get ready for all the classic carnival excitement at the Beaumont Days Midway! Whether you’re a thrill-seeker or just here for the mini donuts\, there’s something for everyone. \nLocation: BSRC parking lot \nHours:\nFriday 3 to 11 pm\nSaturday 11 am to 11 pm\nSunday 12 to 5 pm \nTickets available on-site: \nSingle ticket $1\n20 tickets $20\n40 tickets $40\n60 tickets $55\nAll day wristband $50 \nNote: Wristbands are non-transferable and non-refundable.
URL:https://www.beaumont.ab.ca/calendar/beaumont-days-midway/
LOCATION:Beaumont Sport and Recreation Centre\, 5001 Rue Eaglemont\, Beaumont\, Alberta\, T4X 0H9\, Canada
CATEGORIES:Annual events,Things to do
ATTACH;FMTTYPE=image/png:https://www.beaumont.ab.ca/wp-content/uploads/2025/04/Beaumont-Days-Midway.png
GEO:53.3529018;-113.4352483
X-APPLE-STRUCTURED-LOCATION;VALUE=URI;X-ADDRESS=Beaumont Sport and Recreation Centre 5001 Rue Eaglemont Beaumont Alberta T4X 0H9 Canada;X-APPLE-RADIUS=500;X-TITLE=5001 Rue Eaglemont:geo:-113.4352483,53.3529018
END:VEVENT
BEGIN:VEVENT
DTSTART;TZID=America/Edmonton:20260522T180000
DTEND;TZID=America/Edmonton:20260522T230000
DTSTAMP:20260425T181439
CREATED:20260422T213309Z
LAST-MODIFIED:20260422T215055Z
UID:10000913-1779472800-1779490800@www.beaumont.ab.ca
SUMMARY:Beaumont Days Street Party
DESCRIPTION:The street party officially kicks off Beaumont Days with an electrifying evening in the heart of Centre-Ville! Dance the night away to live music\, shop at the Bazar de rue à Beaumont\, sip on drinks from the beer gardens\, and enjoy delicious food and family-friendly activities. \nLocation: Centre-Ville (50 Street between 50-52 Avenue)\nTime: 6 to 11 pm \nStage schedule:\nThe City of Beaumont proudly presents JJ Shiplett\, Scenic Route to Alaska\, and Post Script\, with local youth acts Woodchild and Willow & Noah. \n\n\n\n6 pm\nOpening remarks\n\n\n6:10 pm\nWoodchild\n\n\n6:50 pm\nWillow & Noah\n\n\n7:30 pm\nPost Script\n\n\n8:45 pm\nScenic Route to Alaska\n\n\n10 pm\nJJ Shiplett\n\n\n\n  \nAdditional fun:\n\nSupport Centre-Ville businesses by exploring downtown Beaumont shops and restaurants.\nBeer Gardens hosted by Kin Club of Beaumont\nBrowse the Bazar de rue à Beaumont street market\nIndulge in your favourite eats at Food Truck Alley\nActivities for all ages throughout the evening\nChantal Bérubé Youth Centre Open House\n\nFood truck lineup:\n\nCamion Gisele\nIslands Flavaz\nKin-D Thai Food Truck\nLikkle Lemon\nLittle Bear Gelato\nPurple Perogy\nThe Lord of the Grills\nXinmei Flavor House
URL:https://www.beaumont.ab.ca/calendar/beaumont-days-street-party/
LOCATION:Centre-Ville\, 5022 50 Street\, Beaumont\, Alberta\, T4X 1E5\, Canada
CATEGORIES:Annual events,Things to do
ATTACH;FMTTYPE=image/png:https://www.beaumont.ab.ca/wp-content/uploads/2025/04/Beaumont-Days-Street-Party.png
GEO:53.35428;-113.41562
X-APPLE-STRUCTURED-LOCATION;VALUE=URI;X-ADDRESS=Centre-Ville 5022 50 Street Beaumont Alberta T4X 1E5 Canada;X-APPLE-RADIUS=500;X-TITLE=5022 50 Street:geo:-113.41562,53.35428
END:VEVENT
BEGIN:VEVENT
DTSTART;TZID=America/Edmonton:20260523T080000
DTEND;TZID=America/Edmonton:20260523T100000
DTSTAMP:20260425T181439
CREATED:20260422T213126Z
LAST-MODIFIED:20260422T215255Z
UID:10000914-1779523200-1779530400@www.beaumont.ab.ca
SUMMARY:Beaumont Firefighters Pancake Breakfast
DESCRIPTION:Start your day the best way—with pancakes and community spirit! Enjoy a free hot breakfast cooked by our local firefighters before heading out to watch the parade. Please note: food service ends at 10 am sharp. \nLocation: Beaumont Fire Hall (5010 52 Avenue) \nTime: 8 to 10 am \n  \n 
URL:https://www.beaumont.ab.ca/calendar/beaumont-firefighters-pancake-breakfast/
LOCATION:Beaumont Fire Hall\, 5010 52 Ave\, Beaumont\, Alberta\, T4X 1E5\, Canada
CATEGORIES:Annual events,Things to do
ATTACH;FMTTYPE=image/png:https://www.beaumont.ab.ca/wp-content/uploads/2025/04/Beaumont-Firefighters-Pancake-Breakfast.png
END:VEVENT
BEGIN:VEVENT
DTSTART;TZID=America/Edmonton:20260523T120000
DTEND;TZID=America/Edmonton:20260523T160000
DTSTAMP:20260425T181439
CREATED:20260422T212906Z
LAST-MODIFIED:20260422T215907Z
UID:10000916-1779537600-1779552000@www.beaumont.ab.ca
SUMMARY:Beaumont Days Family Fun Zone
DESCRIPTION:Join us for an action-packed afternoon at Family Fun! This event is perfect for families and little ones\, with tons of interactive activities\, crafts and entertainment. \nLocation: Ken Nichol Regional Recreation Centre parking lot (5303 50 Street) \nTime: Noon to 4 pm \nActivities include:\n\nPetting zoo\nGiant inflatables and bounce houses\nFitset Ninja course\nFace painting\nButtons and bookmarks with Beaumont Library\nMen’s Shed birdhouse craft\n…and more!\n\nFood truck lineup:\n\nDruid’s Dirty Soda Bar\nGarfield & Odies Carnival Treats\nLittle Bear Gelato\nSoners Donair & Kebab\nThe Lemon Lagoon\nThe Mini Donut King
URL:https://www.beaumont.ab.ca/calendar/beaumont-days-family-fun/
LOCATION:Ken Nichol Regional Recreation Centre\, 5303 50 Street\, Beaumont\, Alberta\, T4X 1E5\, Canada
CATEGORIES:Annual events,Things to do
ATTACH;FMTTYPE=image/png:https://www.beaumont.ab.ca/wp-content/uploads/2025/04/Beaumont-Days-FAMILY-FUN.png
GEO:53.3561161;-113.4132462
X-APPLE-STRUCTURED-LOCATION;VALUE=URI;X-ADDRESS=Ken Nichol Regional Recreation Centre 5303 50 Street Beaumont Alberta T4X 1E5 Canada;X-APPLE-RADIUS=500;X-TITLE=5303 50 Street:geo:-113.4132462,53.3561161
END:VEVENT
END:VCALENDAR