BEGIN:VCALENDAR
VERSION:2.0
PRODID:-//Beaumont - ECPv6.15.18//NONSGML v1.0//EN
CALSCALE:GREGORIAN
METHOD:PUBLISH
X-ORIGINAL-URL:https://www.beaumont.ab.ca
X-WR-CALDESC:Events for Beaumont
REFRESH-INTERVAL;VALUE=DURATION:PT1H
X-Robots-Tag:noindex
X-PUBLISHED-TTL:PT1H
BEGIN:VTIMEZONE
TZID:America/Edmonton
BEGIN:DAYLIGHT
TZOFFSETFROM:-0700
TZOFFSETTO:-0600
TZNAME:MDT
DTSTART:20250309T090000
END:DAYLIGHT
BEGIN:STANDARD
TZOFFSETFROM:-0600
TZOFFSETTO:-0700
TZNAME:MST
DTSTART:20251102T080000
END:STANDARD
BEGIN:DAYLIGHT
TZOFFSETFROM:-0700
TZOFFSETTO:-0600
TZNAME:MDT
DTSTART:20260308T090000
END:DAYLIGHT
BEGIN:STANDARD
TZOFFSETFROM:-0600
TZOFFSETTO:-0700
TZNAME:MST
DTSTART:20261101T080000
END:STANDARD
BEGIN:DAYLIGHT
TZOFFSETFROM:-0700
TZOFFSETTO:-0600
TZNAME:MDT
DTSTART:20270314T090000
END:DAYLIGHT
BEGIN:STANDARD
TZOFFSETFROM:-0600
TZOFFSETTO:-0700
TZNAME:MST
DTSTART:20271107T080000
END:STANDARD
END:VTIMEZONE
BEGIN:VEVENT
DTSTART;TZID=America/Edmonton:20260301T150000
DTEND;TZID=America/Edmonton:20260301T160000
DTSTAMP:20260419T194748
CREATED:20260209T224539Z
LAST-MODIFIED:20260210T001040Z
UID:10001083-1772377200-1772380800@www.beaumont.ab.ca
SUMMARY:Beaumont Blitz Come Try Softball
DESCRIPTION:Beaumont Blitz Fastball Association is hosting a FREE Come Try Softball event for girls ages 5 to 19. This fun\, low-pressure session is perfect for beginners and those curious about the sport. Meet our coaches\, learn the basics\, and experience the excitement of fastball in a welcoming environment. \nLocation: Beaumont Sport and Recreation Centre Fieldhouse\nDate: March 1 at 3 pm
URL:https://www.beaumont.ab.ca/calendar/beaumont-blitz-come-try-softball/
LOCATION:Beaumont Sport and Recreation Centre\, 5001 Rue Eaglemont\, Beaumont\, Alberta\, T4X 0H9\, Canada
CATEGORIES:Community event
ATTACH;FMTTYPE=image/png:https://www.beaumont.ab.ca/wp-content/uploads/2026/02/Blitz-Come-Try-Softball-Beaumont-Events-Calendar-2.png
GEO:53.3529018;-113.4352483
X-APPLE-STRUCTURED-LOCATION;VALUE=URI;X-ADDRESS=Beaumont Sport and Recreation Centre 5001 Rue Eaglemont Beaumont Alberta T4X 0H9 Canada;X-APPLE-RADIUS=500;X-TITLE=5001 Rue Eaglemont:geo:-113.4352483,53.3529018
END:VEVENT
BEGIN:VEVENT
DTSTART;TZID=America/Edmonton:20260304T090000
DTEND;TZID=America/Edmonton:20260304T163000
DTSTAMP:20260419T194748
CREATED:20260227T152846Z
LAST-MODIFIED:20260302T171857Z
UID:10001084-1772614800-1772641800@www.beaumont.ab.ca
SUMMARY:Special Council Meeting (Closed Session)
DESCRIPTION:A Special Council meeting will be held on March 4\, 2026\, at 9 am\, at the Beaumont Community Centre. This meeting is for Council’s Strategic Plan discussions and will be held in closed session pursuant to Sections 28 and 29 of the Access to Information Act. \nAgendas and other documents are made available on the Thursday before the meeting. Although the end-time is shown as 4:30 pm\, meetings may conclude earlier or later than listed\, depending on the nature of the agenda.
URL:https://www.beaumont.ab.ca/calendar/special-council-meeting-closed-session-4/
LOCATION:Beaumont Community Centre\, 5204 50 Avenue\, Beaumont\, Alberta\, T4X 1E3\, Canada
CATEGORIES:City government,Council meetings
ATTACH;FMTTYPE=image/jpeg:https://www.beaumont.ab.ca/wp-content/uploads/2024/07/Council-Meeting_Event-Image-scaled.jpg
GEO:53.3528896;-113.4195316
X-APPLE-STRUCTURED-LOCATION;VALUE=URI;X-ADDRESS=Beaumont Community Centre 5204 50 Avenue Beaumont Alberta T4X 1E3 Canada;X-APPLE-RADIUS=500;X-TITLE=5204 50 Avenue:geo:-113.4195316,53.3528896
END:VEVENT
BEGIN:VEVENT
DTSTART;TZID=America/Edmonton:20260305T090000
DTEND;TZID=America/Edmonton:20260305T163000
DTSTAMP:20260419T194748
CREATED:20260227T153021Z
LAST-MODIFIED:20260302T171820Z
UID:10001085-1772701200-1772728200@www.beaumont.ab.ca
SUMMARY:Special Council Meeting (Closed Session)
DESCRIPTION:A Special Council meeting will be held on March 5\, 2026\, at 9 am\, at the Beaumont Community Centre. This meeting is for Council’s Strategic Plan discussions and will be held in closed session pursuant to Sections 28 and 29 of the Access to Information Act. \nAgendas and other documents are made available on the Thursday before the meeting. Although the end-time is shown as 4:30 pm\, meetings may conclude earlier or later than listed\, depending on the nature of the agenda.
URL:https://www.beaumont.ab.ca/calendar/special-council-meeting-closed-session-5/
LOCATION:Beaumont Community Centre\, 5204 50 Avenue\, Beaumont\, Alberta\, T4X 1E3\, Canada
CATEGORIES:City government,Council meetings
ATTACH;FMTTYPE=image/jpeg:https://www.beaumont.ab.ca/wp-content/uploads/2024/07/Council-Meeting_Event-Image-scaled.jpg
GEO:53.3528896;-113.4195316
X-APPLE-STRUCTURED-LOCATION;VALUE=URI;X-ADDRESS=Beaumont Community Centre 5204 50 Avenue Beaumont Alberta T4X 1E3 Canada;X-APPLE-RADIUS=500;X-TITLE=5204 50 Avenue:geo:-113.4195316,53.3528896
END:VEVENT
BEGIN:VEVENT
DTSTART;TZID=America/Edmonton:20260310T180000
DTEND;TZID=America/Edmonton:20260310T210000
DTSTAMP:20260419T194748
CREATED:20251217T170858Z
LAST-MODIFIED:20251217T170934Z
UID:10001036-1773165600-1773176400@www.beaumont.ab.ca
SUMMARY:Regular Council Meeting
DESCRIPTION:Council meetings will begin at 6 pm every second and fourth Tuesday of every month unless otherwise posted. Agendas and other documents are made available the Thursday before the meeting. Although the end-time is shown as 9 pm\, meetings may conclude earlier or later than listed depending on the nature of the agenda.
URL:https://www.beaumont.ab.ca/calendar/regular-council-meeting-6/2026-03-10/
LOCATION:Council Chambers\, Administration Office\, 5600 49 Street\, Beaumont\, Alberta\, T4X 1A1\, Canada
CATEGORIES:City government,Council meetings
ATTACH;FMTTYPE=image/jpeg:https://www.beaumont.ab.ca/wp-content/uploads/2024/07/Council-Meeting_Event-Image-scaled.jpg
GEO:53.3577598;-113.4145615
X-APPLE-STRUCTURED-LOCATION;VALUE=URI;X-ADDRESS=Council Chambers Administration Office 5600 49 Street Beaumont Alberta T4X 1A1 Canada;X-APPLE-RADIUS=500;X-TITLE=5600 49 Street:geo:-113.4145615,53.3577598
END:VEVENT
BEGIN:VEVENT
DTSTART;TZID=America/Edmonton:20260317T170000
DTEND;TZID=America/Edmonton:20260317T210000
DTSTAMP:20260419T194748
CREATED:20251217T172725Z
LAST-MODIFIED:20251217T172725Z
UID:10001047-1773766800-1773781200@www.beaumont.ab.ca
SUMMARY:Committee of the Whole Meeting
DESCRIPTION:Committee of the Whole meetings start at 5 pm every unless otherwise posted. Agendas and other documents are made available the Thursday before the meeting. Although the end-time is shown as 9 pm\, meetings may conclude earlier or later than listed depending on the nature of the agenda. Members of the public are welcome to attend open sessions.
URL:https://www.beaumont.ab.ca/calendar/committee-of-the-whole-meeting-2/2026-03-17/
LOCATION:Council Chambers\, Administration Office\, 5600 49 Street\, Beaumont\, Alberta\, T4X 1A1\, Canada
CATEGORIES:City government,Committee of the Whole
ATTACH;FMTTYPE=image/jpeg:https://www.beaumont.ab.ca/wp-content/uploads/2024/07/COTW_Event-Image-scaled.jpg
GEO:53.3577598;-113.4145615
X-APPLE-STRUCTURED-LOCATION;VALUE=URI;X-ADDRESS=Council Chambers Administration Office 5600 49 Street Beaumont Alberta T4X 1A1 Canada;X-APPLE-RADIUS=500;X-TITLE=5600 49 Street:geo:-113.4145615,53.3577598
END:VEVENT
BEGIN:VEVENT
DTSTART;TZID=America/Edmonton:20260317T200000
DTEND;TZID=America/Edmonton:20260317T210000
DTSTAMP:20260419T194748
CREATED:20260313T215428Z
LAST-MODIFIED:20260313T221136Z
UID:10001088-1773777600-1773781200@www.beaumont.ab.ca
SUMMARY:Special Council Meeting (Closed Session)
DESCRIPTION:A Special Council meeting will be held immediately following the Committee of the Whole meeting on March 17\, 2026\, in Council Chambers. The meeting has been called by Mayor Vanderkwaak under Sections 194(1)(a) and 194(3) of the Municipal Government Act (MGA).  This meeting will be held in closed session to address event updates and CAO priorities. \nAgendas and other documents are available and items may be updated\, deferred\, approved on consent or reordered during the meeting at Council’s discretion. The timing or discussion of items may change.
URL:https://www.beaumont.ab.ca/calendar/special-council-meeting-closed-session-6/
LOCATION:Council Chambers\, Administration Office\, 5600 49 Street\, Beaumont\, Alberta\, T4X 1A1\, Canada
CATEGORIES:City government,Council meetings
ATTACH;FMTTYPE=image/jpeg:https://www.beaumont.ab.ca/wp-content/uploads/2024/07/Council-Meeting_Event-Image-scaled.jpg
GEO:53.3577598;-113.4145615
X-APPLE-STRUCTURED-LOCATION;VALUE=URI;X-ADDRESS=Council Chambers Administration Office 5600 49 Street Beaumont Alberta T4X 1A1 Canada;X-APPLE-RADIUS=500;X-TITLE=5600 49 Street:geo:-113.4145615,53.3577598
END:VEVENT
BEGIN:VEVENT
DTSTART;TZID=America/Edmonton:20260324T180000
DTEND;TZID=America/Edmonton:20260324T210000
DTSTAMP:20260419T194748
CREATED:20251217T165847Z
LAST-MODIFIED:20251217T165847Z
UID:10000996-1774375200-1774386000@www.beaumont.ab.ca
SUMMARY:Regular Council Meeting
DESCRIPTION:Council meetings will begin at 6 pm every second and fourth Tuesday of every month unless otherwise posted. Agendas and other documents are made available the Thursday before the meeting. Although the end-time is shown as 9 pm\, meetings may conclude earlier or later than listed depending on the nature of the agenda.
URL:https://www.beaumont.ab.ca/calendar/regular-council-meeting-7/2026-03-24/
LOCATION:Council Chambers\, Administration Office\, 5600 49 Street\, Beaumont\, Alberta\, T4X 1A1\, Canada
CATEGORIES:City government,Council meetings
ATTACH;FMTTYPE=image/jpeg:https://www.beaumont.ab.ca/wp-content/uploads/2024/07/Council-Meeting_Event-Image-scaled.jpg
GEO:53.3577598;-113.4145615
X-APPLE-STRUCTURED-LOCATION;VALUE=URI;X-ADDRESS=Council Chambers Administration Office 5600 49 Street Beaumont Alberta T4X 1A1 Canada;X-APPLE-RADIUS=500;X-TITLE=5600 49 Street:geo:-113.4145615,53.3577598
END:VEVENT
BEGIN:VEVENT
DTSTART;TZID=America/Edmonton:20260325T190000
DTEND;TZID=America/Edmonton:20260325T203000
DTSTAMP:20260419T194748
CREATED:20260309T170458Z
LAST-MODIFIED:20260309T170523Z
UID:10001086-1774465200-1774470600@www.beaumont.ab.ca
SUMMARY:Beaumont Heritage Society Annual General Meeting
DESCRIPTION:The Beaumont Heritage Society is holding its Annual General Meeting (AGM) March 25 at 7 pm at the St. Jacques Heritage House Museum. We invite all\, both members and non-members\, to come join us. If you would like a 2026-27 membership the cost is $20\, a lifetime membership is $100. Perhaps you would like to serve on our board\, or volunteer to help us with upcoming events and tours\, in our family history research room or with our gardens and fruit trees. A brief tour is available after the meeting.
URL:https://www.beaumont.ab.ca/calendar/heritage-society-agm/
LOCATION:St. Jacques Heritage House Museum\, 3116 - 49 Street\, Beaumont\, AB\, Canada
CATEGORIES:Community event
ATTACH;FMTTYPE=image/jpeg:https://www.beaumont.ab.ca/wp-content/uploads/2026/03/BHS-AGM-2026-scaled.jpg
ORGANIZER;CN="Beaumont & District Heritage Society":MAILTO:heritageinbeaumont@gmail.com
GEO:53.3423076;-113.4146704
X-APPLE-STRUCTURED-LOCATION;VALUE=URI;X-ADDRESS=St. Jacques Heritage House Museum 3116 - 49 Street Beaumont AB Canada;X-APPLE-RADIUS=500;X-TITLE=3116 - 49 Street:geo:-113.4146704,53.3423076
END:VEVENT
BEGIN:VEVENT
DTSTART;TZID=America/Edmonton:20260327T190000
DTEND;TZID=America/Edmonton:20260327T220000
DTSTAMP:20260419T194748
CREATED:20260309T213621Z
LAST-MODIFIED:20260320T013444Z
UID:10001087-1774638000-1774648800@www.beaumont.ab.ca
SUMMARY:Teen Takeover
DESCRIPTION:Get ready for Beaumont’s first-ever Teen Takeover — a FREE\, high-energy night just for youth ages 12–17! \nGood news: Registration has been extended from March 20 to March 22\, giving teens a bit more time to sign up.  \nImportant update: Ice skating and games rooms will not be available this time. We know some of you were excited for them\, but all the other activities are still going ahead for a fun and engaging night.  \nTeens can enjoy exclusive access to a variety of activities throughout the evening\, including a live DJ dance party\, swimming\, climbing wall challenges\, Sportball games\, community booths and more. Concession items will be available for purchase. \nThis fully supervised event is designed to give teens a fun\, safe space to connect\, move and try something new. \nRegistration is required. Spots are limited and registration closes March 22.\nCourse ID: 20864 \nRegister online through Click-it or call BSRC Guest Services at 780-929-7946. \nImportant registration information: \n\nGuests cannot update contact information directly in Click-it. Updates must be completed in person or over the phone.\nParticipants must already have an account to register online. New accounts can only be created in person or over the phone.\n\nYouth are encouraged to bring a personal lock for their belongings. Wristbands will be provided at check-in to manage pool access and event participation.
URL:https://www.beaumont.ab.ca/calendar/teen-takeover/
LOCATION:Beaumont Sport and Recreation Centre\, 5001 Rue Eaglemont\, Beaumont\, Alberta\, T4X 0H9\, Canada
CATEGORIES:Special events,Things to do
ATTACH;FMTTYPE=image/png:https://www.beaumont.ab.ca/wp-content/uploads/2026/03/TEEN-TAKEOVER-Web.png
GEO:53.3529018;-113.4352483
X-APPLE-STRUCTURED-LOCATION;VALUE=URI;X-ADDRESS=Beaumont Sport and Recreation Centre 5001 Rue Eaglemont Beaumont Alberta T4X 0H9 Canada;X-APPLE-RADIUS=500;X-TITLE=5001 Rue Eaglemont:geo:-113.4352483,53.3529018
END:VEVENT
END:VCALENDAR