BEGIN:VCALENDAR
VERSION:2.0
PRODID:-//Beaumont - ECPv6.15.18//NONSGML v1.0//EN
CALSCALE:GREGORIAN
METHOD:PUBLISH
X-WR-CALNAME:Beaumont
X-ORIGINAL-URL:https://www.beaumont.ab.ca
X-WR-CALDESC:Events for Beaumont
REFRESH-INTERVAL;VALUE=DURATION:PT1H
X-Robots-Tag:noindex
X-PUBLISHED-TTL:PT1H
BEGIN:VTIMEZONE
TZID:America/Edmonton
BEGIN:DAYLIGHT
TZOFFSETFROM:-0700
TZOFFSETTO:-0600
TZNAME:MDT
DTSTART:20240310T090000
END:DAYLIGHT
BEGIN:STANDARD
TZOFFSETFROM:-0600
TZOFFSETTO:-0700
TZNAME:MST
DTSTART:20241103T080000
END:STANDARD
BEGIN:DAYLIGHT
TZOFFSETFROM:-0700
TZOFFSETTO:-0600
TZNAME:MDT
DTSTART:20250309T090000
END:DAYLIGHT
BEGIN:STANDARD
TZOFFSETFROM:-0600
TZOFFSETTO:-0700
TZNAME:MST
DTSTART:20251102T080000
END:STANDARD
BEGIN:DAYLIGHT
TZOFFSETFROM:-0700
TZOFFSETTO:-0600
TZNAME:MDT
DTSTART:20260308T090000
END:DAYLIGHT
BEGIN:STANDARD
TZOFFSETFROM:-0600
TZOFFSETTO:-0700
TZNAME:MST
DTSTART:20261101T080000
END:STANDARD
END:VTIMEZONE
BEGIN:VEVENT
DTSTART;TZID=America/Edmonton:20250311T180000
DTEND;TZID=America/Edmonton:20250311T210000
DTSTAMP:20260420T110738
CREATED:20250130T213649Z
LAST-MODIFIED:20250130T213649Z
UID:10000825-1741716000-1741726800@www.beaumont.ab.ca
SUMMARY:Regular Council Meeting
DESCRIPTION:Council meetings will begin at 6 pm every second and fourth Tuesday of every month unless otherwise posted. Agendas and other documents are made available the Thursday before the meeting. Although the end-time is shown as 9 pm\, meetings may conclude earlier or later than listed depending on the nature of the agenda.
URL:https://www.beaumont.ab.ca/calendar/regular-council-meeting-2/2025-03-11/
LOCATION:Council Chambers\, Administration Office\, 5600 49 Street\, Beaumont\, Alberta\, T4X 1A1\, Canada
CATEGORIES:City government,Council meetings
ATTACH;FMTTYPE=image/jpeg:https://www.beaumont.ab.ca/wp-content/uploads/2024/07/Council-Meeting_Event-Image-scaled.jpg
GEO:53.3577598;-113.4145615
X-APPLE-STRUCTURED-LOCATION;VALUE=URI;X-ADDRESS=Council Chambers Administration Office 5600 49 Street Beaumont Alberta T4X 1A1 Canada;X-APPLE-RADIUS=500;X-TITLE=5600 49 Street:geo:-113.4145615,53.3577598
END:VEVENT
BEGIN:VEVENT
DTSTART;TZID=America/Edmonton:20250308T090000
DTEND;TZID=America/Edmonton:20250308T110000
DTSTAMP:20260420T110738
CREATED:20250220T184110Z
LAST-MODIFIED:20250220T184110Z
UID:10000887-1741424400-1741431600@www.beaumont.ab.ca
SUMMARY:Girls Come Try Baseball
DESCRIPTION:Beaumont Minor Ball Association is hosting two FREE Girls Come Try Baseball events. Bring indoor shoes\, glove\, bat and helmet if you can. \nTuesday\, March 4 from 5 to 7 pm\nSaturday\, March 8 from 9 to 11 am
URL:https://www.beaumont.ab.ca/calendar/girls-come-try-baseball/2025-03-08/
LOCATION:Beaumont Sport and Recreation Centre\, 5001 Rue Eaglemont\, Beaumont\, Alberta\, T4X 0H9\, Canada
CATEGORIES:Community event,Things to do,Town Hall
ATTACH;FMTTYPE=image/png:https://www.beaumont.ab.ca/wp-content/uploads/2025/02/Baseball-girls-CIRCLE.png
GEO:53.3529018;-113.4352483
X-APPLE-STRUCTURED-LOCATION;VALUE=URI;X-ADDRESS=Beaumont Sport and Recreation Centre 5001 Rue Eaglemont Beaumont Alberta T4X 0H9 Canada;X-APPLE-RADIUS=500;X-TITLE=5001 Rue Eaglemont:geo:-113.4352483,53.3529018
END:VEVENT
BEGIN:VEVENT
DTSTART;TZID=America/Edmonton:20250304T170000
DTEND;TZID=America/Edmonton:20250304T190000
DTSTAMP:20260420T110738
CREATED:20250220T184110Z
LAST-MODIFIED:20250220T184110Z
UID:10000886-1741107600-1741114800@www.beaumont.ab.ca
SUMMARY:Girls Come Try Baseball
DESCRIPTION:Beaumont Minor Ball Association is hosting two FREE Girls Come Try Baseball events. Bring indoor shoes\, glove\, bat and helmet if you can. \nTuesday\, March 4 from 5 to 7 pm\nSaturday\, March 8 from 9 to 11 am
URL:https://www.beaumont.ab.ca/calendar/girls-come-try-baseball/2025-03-04/
LOCATION:Beaumont Sport and Recreation Centre\, 5001 Rue Eaglemont\, Beaumont\, Alberta\, T4X 0H9\, Canada
CATEGORIES:Community event,Things to do,Town Hall
ATTACH;FMTTYPE=image/png:https://www.beaumont.ab.ca/wp-content/uploads/2025/02/Baseball-girls-CIRCLE.png
GEO:53.3529018;-113.4352483
X-APPLE-STRUCTURED-LOCATION;VALUE=URI;X-ADDRESS=Beaumont Sport and Recreation Centre 5001 Rue Eaglemont Beaumont Alberta T4X 0H9 Canada;X-APPLE-RADIUS=500;X-TITLE=5001 Rue Eaglemont:geo:-113.4352483,53.3529018
END:VEVENT
BEGIN:VEVENT
DTSTART;TZID=America/Edmonton:20250302T130000
DTEND;TZID=America/Edmonton:20250302T150000
DTSTAMP:20260420T110738
CREATED:20250220T182607Z
LAST-MODIFIED:20250220T182607Z
UID:10000885-1740920400-1740927600@www.beaumont.ab.ca
SUMMARY:Baseball Coaching 101 for Women
DESCRIPTION:A FREE event for women of all backgrounds and experience in baseball to come hear from a panel of trail-blazing women who have coached at all levels. The intent is for women to feel more empowered and confident in coaching and/or helping to coach minor baseball teams.
URL:https://www.beaumont.ab.ca/calendar/baseball-coaching-101-for-women/
LOCATION:Beaumont Sport and Recreation Centre\, 5001 Rue Eaglemont\, Beaumont\, Alberta\, T4X 0H9\, Canada
CATEGORIES:Community event,Special events,Things to do
ATTACH;FMTTYPE=image/jpeg:https://www.beaumont.ab.ca/wp-content/uploads/2025/02/baseball-girl.jpg
GEO:53.3529018;-113.4352483
X-APPLE-STRUCTURED-LOCATION;VALUE=URI;X-ADDRESS=Beaumont Sport and Recreation Centre 5001 Rue Eaglemont Beaumont Alberta T4X 0H9 Canada;X-APPLE-RADIUS=500;X-TITLE=5001 Rue Eaglemont:geo:-113.4352483,53.3529018
END:VEVENT
BEGIN:VEVENT
DTSTART;TZID=America/Edmonton:20250225T180000
DTEND;TZID=America/Edmonton:20250225T210000
DTSTAMP:20260420T110738
CREATED:20250130T213808Z
LAST-MODIFIED:20250130T213808Z
UID:10000846-1740506400-1740517200@www.beaumont.ab.ca
SUMMARY:Regular Council Meeting
DESCRIPTION:Council meetings will begin at 6 pm every second and fourth Tuesday of every month unless otherwise posted. Agendas and other documents are made available the Thursday before the meeting. Although the end-time is shown as 9 pm\, meetings may conclude earlier or later than listed depending on the nature of the agenda.
URL:https://www.beaumont.ab.ca/calendar/regular-council-meeting-3/2025-02-25/
LOCATION:Council Chambers\, Administration Office\, 5600 49 Street\, Beaumont\, Alberta\, T4X 1A1\, Canada
CATEGORIES:City government,Council meetings
ATTACH;FMTTYPE=image/jpeg:https://www.beaumont.ab.ca/wp-content/uploads/2024/07/Council-Meeting_Event-Image-scaled.jpg
GEO:53.3577598;-113.4145615
X-APPLE-STRUCTURED-LOCATION;VALUE=URI;X-ADDRESS=Council Chambers Administration Office 5600 49 Street Beaumont Alberta T4X 1A1 Canada;X-APPLE-RADIUS=500;X-TITLE=5600 49 Street:geo:-113.4145615,53.3577598
END:VEVENT
BEGIN:VEVENT
DTSTART;TZID=America/Edmonton:20250211T180000
DTEND;TZID=America/Edmonton:20250211T210000
DTSTAMP:20260420T110738
CREATED:20250130T213649Z
LAST-MODIFIED:20250130T213649Z
UID:10000824-1739296800-1739307600@www.beaumont.ab.ca
SUMMARY:Regular Council Meeting
DESCRIPTION:Council meetings will begin at 6 pm every second and fourth Tuesday of every month unless otherwise posted. Agendas and other documents are made available the Thursday before the meeting. Although the end-time is shown as 9 pm\, meetings may conclude earlier or later than listed depending on the nature of the agenda.
URL:https://www.beaumont.ab.ca/calendar/regular-council-meeting-2/2025-02-11/
LOCATION:Council Chambers\, Administration Office\, 5600 49 Street\, Beaumont\, Alberta\, T4X 1A1\, Canada
CATEGORIES:City government,Council meetings
ATTACH;FMTTYPE=image/jpeg:https://www.beaumont.ab.ca/wp-content/uploads/2024/07/Council-Meeting_Event-Image-scaled.jpg
GEO:53.3577598;-113.4145615
X-APPLE-STRUCTURED-LOCATION;VALUE=URI;X-ADDRESS=Council Chambers Administration Office 5600 49 Street Beaumont Alberta T4X 1A1 Canada;X-APPLE-RADIUS=500;X-TITLE=5600 49 Street:geo:-113.4145615,53.3577598
END:VEVENT
BEGIN:VEVENT
DTSTART;TZID=America/Edmonton:20250122T183000
DTEND;TZID=America/Edmonton:20250122T203000
DTSTAMP:20260420T110738
CREATED:20241126T173125Z
LAST-MODIFIED:20250103T210722Z
UID:10000772-1737570600-1737577800@www.beaumont.ab.ca
SUMMARY:Town Hall with Mayor Daneluik
DESCRIPTION:Join Mayor Bill Daneluik for an update on City Council’s progress and the exciting work taking place in the community. The presentation will be followed by an opportunity to ask the Mayor questions.
URL:https://www.beaumont.ab.ca/calendar/mayor-town-hall/
LOCATION:École Secondaire Beaumont Composite High School\, 5417 43 Avenue\, Beaumont\, Alberta\, T4X 1K1\, Canada
CATEGORIES:City government,Town Hall
ATTACH;FMTTYPE=image/png:https://www.beaumont.ab.ca/wp-content/uploads/2024/11/Town-Hall-with-Mayor-Daneliuk-Centered_.png
GEO:53.3485852;-113.4228165
X-APPLE-STRUCTURED-LOCATION;VALUE=URI;X-ADDRESS=École Secondaire Beaumont Composite High School 5417 43 Avenue Beaumont Alberta T4X 1K1 Canada;X-APPLE-RADIUS=500;X-TITLE=5417 43 Avenue:geo:-113.4228165,53.3485852
END:VEVENT
END:VCALENDAR