BEGIN:VCALENDAR
VERSION:2.0
PRODID:-//Beaumont - ECPv6.15.18//NONSGML v1.0//EN
CALSCALE:GREGORIAN
METHOD:PUBLISH
X-ORIGINAL-URL:https://www.beaumont.ab.ca
X-WR-CALDESC:Events for Beaumont
REFRESH-INTERVAL;VALUE=DURATION:PT1H
X-Robots-Tag:noindex
X-PUBLISHED-TTL:PT1H
BEGIN:VTIMEZONE
TZID:America/Edmonton
BEGIN:DAYLIGHT
TZOFFSETFROM:-0700
TZOFFSETTO:-0600
TZNAME:MDT
DTSTART:20240310T090000
END:DAYLIGHT
BEGIN:STANDARD
TZOFFSETFROM:-0600
TZOFFSETTO:-0700
TZNAME:MST
DTSTART:20241103T080000
END:STANDARD
BEGIN:DAYLIGHT
TZOFFSETFROM:-0700
TZOFFSETTO:-0600
TZNAME:MDT
DTSTART:20250309T090000
END:DAYLIGHT
BEGIN:STANDARD
TZOFFSETFROM:-0600
TZOFFSETTO:-0700
TZNAME:MST
DTSTART:20251102T080000
END:STANDARD
BEGIN:DAYLIGHT
TZOFFSETFROM:-0700
TZOFFSETTO:-0600
TZNAME:MDT
DTSTART:20260308T090000
END:DAYLIGHT
BEGIN:STANDARD
TZOFFSETFROM:-0600
TZOFFSETTO:-0700
TZNAME:MST
DTSTART:20261101T080000
END:STANDARD
END:VTIMEZONE
BEGIN:VEVENT
DTSTART;TZID=America/Edmonton:20250708T180000
DTEND;TZID=America/Edmonton:20250708T210000
DTSTAMP:20260419T080613
CREATED:20250130T213649Z
LAST-MODIFIED:20250130T213649Z
UID:10000829-1751997600-1752008400@www.beaumont.ab.ca
SUMMARY:Regular Council Meeting
DESCRIPTION:Council meetings will begin at 6 pm every second and fourth Tuesday of every month unless otherwise posted. Agendas and other documents are made available the Thursday before the meeting. Although the end-time is shown as 9 pm\, meetings may conclude earlier or later than listed depending on the nature of the agenda.
URL:https://www.beaumont.ab.ca/calendar/regular-council-meeting-2/2025-07-08/
LOCATION:Council Chambers\, Administration Office\, 5600 49 Street\, Beaumont\, Alberta\, T4X 1A1\, Canada
CATEGORIES:City government,Council meetings
ATTACH;FMTTYPE=image/jpeg:https://www.beaumont.ab.ca/wp-content/uploads/2024/07/Council-Meeting_Event-Image-scaled.jpg
GEO:53.3577598;-113.4145615
X-APPLE-STRUCTURED-LOCATION;VALUE=URI;X-ADDRESS=Council Chambers Administration Office 5600 49 Street Beaumont Alberta T4X 1A1 Canada;X-APPLE-RADIUS=500;X-TITLE=5600 49 Street:geo:-113.4145615,53.3577598
END:VEVENT
BEGIN:VEVENT
DTSTART;TZID=America/Edmonton:20250624T180000
DTEND;TZID=America/Edmonton:20250624T210000
DTSTAMP:20260419T080613
CREATED:20250130T213808Z
LAST-MODIFIED:20250130T213808Z
UID:10000850-1750788000-1750798800@www.beaumont.ab.ca
SUMMARY:Regular Council Meeting
DESCRIPTION:Council meetings will begin at 6 pm every second and fourth Tuesday of every month unless otherwise posted. Agendas and other documents are made available the Thursday before the meeting. Although the end-time is shown as 9 pm\, meetings may conclude earlier or later than listed depending on the nature of the agenda.
URL:https://www.beaumont.ab.ca/calendar/regular-council-meeting-3/2025-06-24/
LOCATION:Council Chambers\, Administration Office\, 5600 49 Street\, Beaumont\, Alberta\, T4X 1A1\, Canada
CATEGORIES:City government,Council meetings
ATTACH;FMTTYPE=image/jpeg:https://www.beaumont.ab.ca/wp-content/uploads/2024/07/Council-Meeting_Event-Image-scaled.jpg
GEO:53.3577598;-113.4145615
X-APPLE-STRUCTURED-LOCATION;VALUE=URI;X-ADDRESS=Council Chambers Administration Office 5600 49 Street Beaumont Alberta T4X 1A1 Canada;X-APPLE-RADIUS=500;X-TITLE=5600 49 Street:geo:-113.4145615,53.3577598
END:VEVENT
BEGIN:VEVENT
DTSTART;TZID=America/Edmonton:20250610T180000
DTEND;TZID=America/Edmonton:20250610T210000
DTSTAMP:20260419T080613
CREATED:20250130T213649Z
LAST-MODIFIED:20250130T213649Z
UID:10000828-1749578400-1749589200@www.beaumont.ab.ca
SUMMARY:Regular Council Meeting
DESCRIPTION:Council meetings will begin at 6 pm every second and fourth Tuesday of every month unless otherwise posted. Agendas and other documents are made available the Thursday before the meeting. Although the end-time is shown as 9 pm\, meetings may conclude earlier or later than listed depending on the nature of the agenda.
URL:https://www.beaumont.ab.ca/calendar/regular-council-meeting-2/2025-06-10/
LOCATION:Council Chambers\, Administration Office\, 5600 49 Street\, Beaumont\, Alberta\, T4X 1A1\, Canada
CATEGORIES:City government,Council meetings
ATTACH;FMTTYPE=image/jpeg:https://www.beaumont.ab.ca/wp-content/uploads/2024/07/Council-Meeting_Event-Image-scaled.jpg
GEO:53.3577598;-113.4145615
X-APPLE-STRUCTURED-LOCATION;VALUE=URI;X-ADDRESS=Council Chambers Administration Office 5600 49 Street Beaumont Alberta T4X 1A1 Canada;X-APPLE-RADIUS=500;X-TITLE=5600 49 Street:geo:-113.4145615,53.3577598
END:VEVENT
BEGIN:VEVENT
DTSTART;TZID=America/Edmonton:20250527T180000
DTEND;TZID=America/Edmonton:20250527T210000
DTSTAMP:20260419T080613
CREATED:20250130T213808Z
LAST-MODIFIED:20250130T213808Z
UID:10000849-1748368800-1748379600@www.beaumont.ab.ca
SUMMARY:Regular Council Meeting
DESCRIPTION:Council meetings will begin at 6 pm every second and fourth Tuesday of every month unless otherwise posted. Agendas and other documents are made available the Thursday before the meeting. Although the end-time is shown as 9 pm\, meetings may conclude earlier or later than listed depending on the nature of the agenda.
URL:https://www.beaumont.ab.ca/calendar/regular-council-meeting-3/2025-05-27/
LOCATION:Council Chambers\, Administration Office\, 5600 49 Street\, Beaumont\, Alberta\, T4X 1A1\, Canada
CATEGORIES:City government,Council meetings
ATTACH;FMTTYPE=image/jpeg:https://www.beaumont.ab.ca/wp-content/uploads/2024/07/Council-Meeting_Event-Image-scaled.jpg
GEO:53.3577598;-113.4145615
X-APPLE-STRUCTURED-LOCATION;VALUE=URI;X-ADDRESS=Council Chambers Administration Office 5600 49 Street Beaumont Alberta T4X 1A1 Canada;X-APPLE-RADIUS=500;X-TITLE=5600 49 Street:geo:-113.4145615,53.3577598
END:VEVENT
BEGIN:VEVENT
DTSTART;TZID=America/Edmonton:20250513T180000
DTEND;TZID=America/Edmonton:20250513T210000
DTSTAMP:20260419T080613
CREATED:20250130T213649Z
LAST-MODIFIED:20250130T213649Z
UID:10000827-1747159200-1747170000@www.beaumont.ab.ca
SUMMARY:Regular Council Meeting
DESCRIPTION:Council meetings will begin at 6 pm every second and fourth Tuesday of every month unless otherwise posted. Agendas and other documents are made available the Thursday before the meeting. Although the end-time is shown as 9 pm\, meetings may conclude earlier or later than listed depending on the nature of the agenda.
URL:https://www.beaumont.ab.ca/calendar/regular-council-meeting-2/2025-05-13/
LOCATION:Council Chambers\, Administration Office\, 5600 49 Street\, Beaumont\, Alberta\, T4X 1A1\, Canada
CATEGORIES:City government,Council meetings
ATTACH;FMTTYPE=image/jpeg:https://www.beaumont.ab.ca/wp-content/uploads/2024/07/Council-Meeting_Event-Image-scaled.jpg
GEO:53.3577598;-113.4145615
X-APPLE-STRUCTURED-LOCATION;VALUE=URI;X-ADDRESS=Council Chambers Administration Office 5600 49 Street Beaumont Alberta T4X 1A1 Canada;X-APPLE-RADIUS=500;X-TITLE=5600 49 Street:geo:-113.4145615,53.3577598
END:VEVENT
BEGIN:VEVENT
DTSTART;TZID=America/Edmonton:20250422T180000
DTEND;TZID=America/Edmonton:20250422T210000
DTSTAMP:20260419T080613
CREATED:20250130T213808Z
LAST-MODIFIED:20250130T213808Z
UID:10000848-1745344800-1745355600@www.beaumont.ab.ca
SUMMARY:Regular Council Meeting
DESCRIPTION:Council meetings will begin at 6 pm every second and fourth Tuesday of every month unless otherwise posted. Agendas and other documents are made available the Thursday before the meeting. Although the end-time is shown as 9 pm\, meetings may conclude earlier or later than listed depending on the nature of the agenda.
URL:https://www.beaumont.ab.ca/calendar/regular-council-meeting-3/2025-04-22/
LOCATION:Council Chambers\, Administration Office\, 5600 49 Street\, Beaumont\, Alberta\, T4X 1A1\, Canada
CATEGORIES:City government,Council meetings
ATTACH;FMTTYPE=image/jpeg:https://www.beaumont.ab.ca/wp-content/uploads/2024/07/Council-Meeting_Event-Image-scaled.jpg
GEO:53.3577598;-113.4145615
X-APPLE-STRUCTURED-LOCATION;VALUE=URI;X-ADDRESS=Council Chambers Administration Office 5600 49 Street Beaumont Alberta T4X 1A1 Canada;X-APPLE-RADIUS=500;X-TITLE=5600 49 Street:geo:-113.4145615,53.3577598
END:VEVENT
BEGIN:VEVENT
DTSTART;TZID=America/Edmonton:20250408T180000
DTEND;TZID=America/Edmonton:20250408T210000
DTSTAMP:20260419T080613
CREATED:20250130T213649Z
LAST-MODIFIED:20250130T213649Z
UID:10000826-1744135200-1744146000@www.beaumont.ab.ca
SUMMARY:Regular Council Meeting
DESCRIPTION:Council meetings will begin at 6 pm every second and fourth Tuesday of every month unless otherwise posted. Agendas and other documents are made available the Thursday before the meeting. Although the end-time is shown as 9 pm\, meetings may conclude earlier or later than listed depending on the nature of the agenda.
URL:https://www.beaumont.ab.ca/calendar/regular-council-meeting-2/2025-04-08/
LOCATION:Council Chambers\, Administration Office\, 5600 49 Street\, Beaumont\, Alberta\, T4X 1A1\, Canada
CATEGORIES:City government,Council meetings
ATTACH;FMTTYPE=image/jpeg:https://www.beaumont.ab.ca/wp-content/uploads/2024/07/Council-Meeting_Event-Image-scaled.jpg
GEO:53.3577598;-113.4145615
X-APPLE-STRUCTURED-LOCATION;VALUE=URI;X-ADDRESS=Council Chambers Administration Office 5600 49 Street Beaumont Alberta T4X 1A1 Canada;X-APPLE-RADIUS=500;X-TITLE=5600 49 Street:geo:-113.4145615,53.3577598
END:VEVENT
BEGIN:VEVENT
DTSTART;TZID=America/Edmonton:20250325T180000
DTEND;TZID=America/Edmonton:20250325T210000
DTSTAMP:20260419T080613
CREATED:20250130T213808Z
LAST-MODIFIED:20250130T213808Z
UID:10000847-1742925600-1742936400@www.beaumont.ab.ca
SUMMARY:Regular Council Meeting
DESCRIPTION:Council meetings will begin at 6 pm every second and fourth Tuesday of every month unless otherwise posted. Agendas and other documents are made available the Thursday before the meeting. Although the end-time is shown as 9 pm\, meetings may conclude earlier or later than listed depending on the nature of the agenda.
URL:https://www.beaumont.ab.ca/calendar/regular-council-meeting-3/2025-03-25/
LOCATION:Council Chambers\, Administration Office\, 5600 49 Street\, Beaumont\, Alberta\, T4X 1A1\, Canada
CATEGORIES:City government,Council meetings
ATTACH;FMTTYPE=image/jpeg:https://www.beaumont.ab.ca/wp-content/uploads/2024/07/Council-Meeting_Event-Image-scaled.jpg
GEO:53.3577598;-113.4145615
X-APPLE-STRUCTURED-LOCATION;VALUE=URI;X-ADDRESS=Council Chambers Administration Office 5600 49 Street Beaumont Alberta T4X 1A1 Canada;X-APPLE-RADIUS=500;X-TITLE=5600 49 Street:geo:-113.4145615,53.3577598
END:VEVENT
BEGIN:VEVENT
DTSTART;TZID=America/Edmonton:20250311T180000
DTEND;TZID=America/Edmonton:20250311T210000
DTSTAMP:20260419T080613
CREATED:20250130T213649Z
LAST-MODIFIED:20250130T213649Z
UID:10000825-1741716000-1741726800@www.beaumont.ab.ca
SUMMARY:Regular Council Meeting
DESCRIPTION:Council meetings will begin at 6 pm every second and fourth Tuesday of every month unless otherwise posted. Agendas and other documents are made available the Thursday before the meeting. Although the end-time is shown as 9 pm\, meetings may conclude earlier or later than listed depending on the nature of the agenda.
URL:https://www.beaumont.ab.ca/calendar/regular-council-meeting-2/2025-03-11/
LOCATION:Council Chambers\, Administration Office\, 5600 49 Street\, Beaumont\, Alberta\, T4X 1A1\, Canada
CATEGORIES:City government,Council meetings
ATTACH;FMTTYPE=image/jpeg:https://www.beaumont.ab.ca/wp-content/uploads/2024/07/Council-Meeting_Event-Image-scaled.jpg
GEO:53.3577598;-113.4145615
X-APPLE-STRUCTURED-LOCATION;VALUE=URI;X-ADDRESS=Council Chambers Administration Office 5600 49 Street Beaumont Alberta T4X 1A1 Canada;X-APPLE-RADIUS=500;X-TITLE=5600 49 Street:geo:-113.4145615,53.3577598
END:VEVENT
BEGIN:VEVENT
DTSTART;TZID=America/Edmonton:20250225T180000
DTEND;TZID=America/Edmonton:20250225T210000
DTSTAMP:20260419T080613
CREATED:20250130T213808Z
LAST-MODIFIED:20250130T213808Z
UID:10000846-1740506400-1740517200@www.beaumont.ab.ca
SUMMARY:Regular Council Meeting
DESCRIPTION:Council meetings will begin at 6 pm every second and fourth Tuesday of every month unless otherwise posted. Agendas and other documents are made available the Thursday before the meeting. Although the end-time is shown as 9 pm\, meetings may conclude earlier or later than listed depending on the nature of the agenda.
URL:https://www.beaumont.ab.ca/calendar/regular-council-meeting-3/2025-02-25/
LOCATION:Council Chambers\, Administration Office\, 5600 49 Street\, Beaumont\, Alberta\, T4X 1A1\, Canada
CATEGORIES:City government,Council meetings
ATTACH;FMTTYPE=image/jpeg:https://www.beaumont.ab.ca/wp-content/uploads/2024/07/Council-Meeting_Event-Image-scaled.jpg
GEO:53.3577598;-113.4145615
X-APPLE-STRUCTURED-LOCATION;VALUE=URI;X-ADDRESS=Council Chambers Administration Office 5600 49 Street Beaumont Alberta T4X 1A1 Canada;X-APPLE-RADIUS=500;X-TITLE=5600 49 Street:geo:-113.4145615,53.3577598
END:VEVENT
BEGIN:VEVENT
DTSTART;TZID=America/Edmonton:20250211T180000
DTEND;TZID=America/Edmonton:20250211T210000
DTSTAMP:20260419T080613
CREATED:20250130T213649Z
LAST-MODIFIED:20250130T213649Z
UID:10000824-1739296800-1739307600@www.beaumont.ab.ca
SUMMARY:Regular Council Meeting
DESCRIPTION:Council meetings will begin at 6 pm every second and fourth Tuesday of every month unless otherwise posted. Agendas and other documents are made available the Thursday before the meeting. Although the end-time is shown as 9 pm\, meetings may conclude earlier or later than listed depending on the nature of the agenda.
URL:https://www.beaumont.ab.ca/calendar/regular-council-meeting-2/2025-02-11/
LOCATION:Council Chambers\, Administration Office\, 5600 49 Street\, Beaumont\, Alberta\, T4X 1A1\, Canada
CATEGORIES:City government,Council meetings
ATTACH;FMTTYPE=image/jpeg:https://www.beaumont.ab.ca/wp-content/uploads/2024/07/Council-Meeting_Event-Image-scaled.jpg
GEO:53.3577598;-113.4145615
X-APPLE-STRUCTURED-LOCATION;VALUE=URI;X-ADDRESS=Council Chambers Administration Office 5600 49 Street Beaumont Alberta T4X 1A1 Canada;X-APPLE-RADIUS=500;X-TITLE=5600 49 Street:geo:-113.4145615,53.3577598
END:VEVENT
END:VCALENDAR